BEGIN:VCALENDAR
VERSION:2.0
PRODID:-//NOAA Center for Earth System Sciences and Remote Sensing Technologies - ECPv6.15.20//NONSGML v1.0//EN
CALSCALE:GREGORIAN
METHOD:PUBLISH
X-ORIGINAL-URL:https://www.cessrst.org
X-WR-CALDESC:Events for NOAA Center for Earth System Sciences and Remote Sensing Technologies
REFRESH-INTERVAL;VALUE=DURATION:PT1H
X-Robots-Tag:noindex
X-PUBLISHED-TTL:PT1H
BEGIN:VTIMEZONE
TZID:America/New_York
BEGIN:DAYLIGHT
TZOFFSETFROM:-0500
TZOFFSETTO:-0400
TZNAME:EDT
DTSTART:20220313T070000
END:DAYLIGHT
BEGIN:STANDARD
TZOFFSETFROM:-0400
TZOFFSETTO:-0500
TZNAME:EST
DTSTART:20221106T060000
END:STANDARD
BEGIN:DAYLIGHT
TZOFFSETFROM:-0500
TZOFFSETTO:-0400
TZNAME:EDT
DTSTART:20230312T070000
END:DAYLIGHT
BEGIN:STANDARD
TZOFFSETFROM:-0400
TZOFFSETTO:-0500
TZNAME:EST
DTSTART:20231105T060000
END:STANDARD
BEGIN:DAYLIGHT
TZOFFSETFROM:-0500
TZOFFSETTO:-0400
TZNAME:EDT
DTSTART:20240310T070000
END:DAYLIGHT
BEGIN:STANDARD
TZOFFSETFROM:-0400
TZOFFSETTO:-0500
TZNAME:EST
DTSTART:20241103T060000
END:STANDARD
END:VTIMEZONE
BEGIN:VEVENT
DTSTART;TZID=America/New_York:20230503T120000
DTEND;TZID=America/New_York:20230503T133000
DTSTAMP:20260423T114649
CREATED:20230425T031633Z
LAST-MODIFIED:20230425T032111Z
UID:3947-1683115200-1683120600@www.cessrst.org
SUMMARY:NSBP Innovate Seminar Series: A Physicist's Guide to Weather and Climate Science
DESCRIPTION:NSBP Innovate Seminar Series: A Physicist’s Guide to Weather and Climate Science \nDate: May 3\, 2023 \nTime: 4:00PM ET \nVenue: Virtual \nMeeting:  Click here to Register \nAbstract: Thermodynamic and dynamical aspects of geophysical fluids are key to generating the everyday weather that we experience\, as well as what the climate will be like in years to come. In this talk we will first review fundamental aspects of earth’s atmospheric circulation\, and how computer simulations are used as experimental playgrounds to understand climate. Then\, background and original research will be presented on atmospheric blocking: persistent extratropical anticyclones known to steer storms and generate devastating heatwaves and cold spells. This work includes climate modeling experiments performed at NOAA Geophysical Fluid Dynamics Laboratory studying blocking in current\, “future”\, and various hypothetical climates. Commentary will also be provided on routes into climate science from the point of view of someone fully trained in traditional physics. \nAbout the Speaker\nVeeshan “Vee” Narinesingh is a CESSRST-I Alumni.  Vee completed his B.S. and Ph.D. in Physics at The City University of New York (CUNY). He is currently a Postdoctoral Researcher at Princeton University / NOAA Geophysical Fluid Dynamics Laboratory.
URL:https://www.cessrst.org/event/physicist-guide-to-weather/
LOCATION:Kavli Institute for Theoretical Physics\, 1102 Kohn Hall\, SANTA BARBARA\, CA\, 93106\, United States
CATEGORIES:Seminar Series
ATTACH;FMTTYPE=image/png:https://www.cessrst.org/wp-content/uploads/2023/04/VeeCESS.png
END:VEVENT
END:VCALENDAR