BEGIN:VCALENDAR
VERSION:2.0
PRODID:-//NOAA Center for Earth System Sciences and Remote Sensing Technologies - ECPv6.15.20//NONSGML v1.0//EN
CALSCALE:GREGORIAN
METHOD:PUBLISH
X-ORIGINAL-URL:https://www.cessrst.org
X-WR-CALDESC:Events for NOAA Center for Earth System Sciences and Remote Sensing Technologies
REFRESH-INTERVAL;VALUE=DURATION:PT1H
X-Robots-Tag:noindex
X-PUBLISHED-TTL:PT1H
BEGIN:VTIMEZONE
TZID:America/New_York
BEGIN:DAYLIGHT
TZOFFSETFROM:-0500
TZOFFSETTO:-0400
TZNAME:EDT
DTSTART:20220313T070000
END:DAYLIGHT
BEGIN:STANDARD
TZOFFSETFROM:-0400
TZOFFSETTO:-0500
TZNAME:EST
DTSTART:20221106T060000
END:STANDARD
BEGIN:DAYLIGHT
TZOFFSETFROM:-0500
TZOFFSETTO:-0400
TZNAME:EDT
DTSTART:20230312T070000
END:DAYLIGHT
BEGIN:STANDARD
TZOFFSETFROM:-0400
TZOFFSETTO:-0500
TZNAME:EST
DTSTART:20231105T060000
END:STANDARD
BEGIN:DAYLIGHT
TZOFFSETFROM:-0500
TZOFFSETTO:-0400
TZNAME:EDT
DTSTART:20240310T070000
END:DAYLIGHT
BEGIN:STANDARD
TZOFFSETFROM:-0400
TZOFFSETTO:-0500
TZNAME:EST
DTSTART:20241103T060000
END:STANDARD
END:VTIMEZONE
BEGIN:VEVENT
DTSTART;TZID=America/New_York:20230414T140000
DTEND;TZID=America/New_York:20230414T150000
DTSTAMP:20260423T131151
CREATED:20230412T193828Z
LAST-MODIFIED:20230413T160132Z
UID:3901-1681480800-1681484400@www.cessrst.org
SUMMARY:Rising Scientist Seminar: Changes to Sea Surface Temperature and their influence on Cyclones
DESCRIPTION:Title: Changes to Sea Surface Temperature and their influence on Tropical Cyclone activities in the Caribbean \nSpeaker: Keneshia Hibbert\, CUNY Graduate Center \nDate: April 14\, 20223 \nTime: 2:00 PM ET \nVenue: Sayre Hall Classroom\, Princeton NJ \nMeeting Link \nDownload the flyer here  \nAbstract: \nTropical Cyclone formation requires warm ocean waters and low wind shear. Changes to sea surface anomalies and wind shear influences are essential to understanding storm development and intensification. The ability to forecast storm changes is vital to human lives and livelihoods. This work looks at SST and VWS trends in the Caribbean\, surrounding\, and Atlantic main developing region. We find increasing SSTs\, decreasing wind shears \, an expanding Atlantic Warm Pool\, and increased storm intensity during the Atlantic hurricane season \nKeneshia is a Ph.D. student at the Graduate Center\, CUNY.  As a master’s student\, she was a NOAA EPP/MSI Scholar at the City College of New York.  Her current research is on how climate change affects key tropical cyclone variables\, and how these changes affect the frequency and intensity of cyclones
URL:https://www.cessrst.org/event/changes-to-sea-surface-temperature-carribbean/
LOCATION:Princeton\, New Jersey\, 300 Forrestal Rd\, Princeton\, NJ\, 08540\, United States
CATEGORIES:Informational Webinar,Seminar Series
ATTACH;FMTTYPE=image/jpeg:https://www.cessrst.org/wp-content/uploads/2023/04/Khibbert-04-11-2023.jpeg
END:VEVENT
BEGIN:VEVENT
DTSTART;TZID=America/New_York:20230420T043000
DTEND;TZID=America/New_York:20230421T120000
DTSTAMP:20260423T131151
CREATED:20230325T212820Z
LAST-MODIFIED:20230425T213029Z
UID:3954-1681965000-1682078400@www.cessrst.org
SUMMARY:NOAA Site Visit 2023
DESCRIPTION:NOAA Site Visit \nDate: April 20-21\, 2023 \nTime: 8:30AM ET \nVenue: The City College of New York \nAgenda: Click to View
URL:https://www.cessrst.org/event/cessrst-ii-site-visit-2023/
LOCATION:City College of New York\, 160 Convent Avenue\, New York\, 10031
CATEGORIES:Conference/Symposium
ATTACH;FMTTYPE=image/png:https://www.cessrst.org/wp-content/uploads/2023/02/logo-htext-sm.png
ORGANIZER;CN="Center for Earth System Sciences and Remote Sensing Technologies (CESSRST)":MAILTO:cessrst@ccny.cuny.edu
END:VEVENT
BEGIN:VEVENT
DTSTART;TZID=America/New_York:20230420T160000
DTEND;TZID=America/New_York:20230420T220000
DTSTAMP:20260423T131151
CREATED:20230324T125219Z
LAST-MODIFIED:20230324T125219Z
UID:3758-1682006400-1682028000@www.cessrst.org
SUMMARY:CCNY Graduate Research Symposium - 2023
DESCRIPTION:Graduate Student Council Presents:\nGraduate Research Symposium \nCall for Submissions\nDeadline: April 7\, 2023 \nOpen to all CCNY graduate students\nThe graduate research symposium provides an opportunity for graduate student researchers of all disciplines to showcase their current research projects.  \nAwards will be presented to winning participants. \nDate: April 20\, 2023\nTime: 4:00pm-10:00pm\nLocation: The Great Hall of Shepard Hall \nPlease use the link below to submit your information.\nhttps://forms.gle/yrSCSb2GUYbZLscs6
URL:https://www.cessrst.org/event/ccny-graduate-research-symp-2023/
LOCATION:City College of New York\, 160 Convent Avenue\, New York\, 10031
CATEGORIES:Conference/Symposium
ATTACH;FMTTYPE=image/jpeg:https://www.cessrst.org/wp-content/uploads/2023/03/Graduate-Sym-2023.jpg
END:VEVENT
BEGIN:VEVENT
DTSTART;TZID=America/New_York:20230425T043000
DTEND;TZID=America/New_York:20230425T133000
DTSTAMP:20260423T131151
CREATED:20230329T220607Z
LAST-MODIFIED:20230329T220703Z
UID:3779-1682397000-1682429400@www.cessrst.org
SUMMARY:CESSRST II Annual Meeting
DESCRIPTION:1st Annual CESSRST-II Meeting \nDate: April 25\, 2023 \nTime: 8:30AM ET \nVenue: NOAA/NESDIS/NCEI\, Asheville NC \nMeeting Objects and Expected Outcomes \n\nTo share the Center’s 5 year plan and year 1 updates\nTo create better collaborations and connection between CESSRST Scientist and NOAA Collaborators and Subject Matter Experts (SMEs)
URL:https://www.cessrst.org/event/cessrst-ii-annual-meeting-year-i/
LOCATION:NOAA NESDIS/NCEI Asheville\, NC\, 151 Patton Ave\, Asheville\, NC\, 28801\, United States
CATEGORIES:Conference/Symposium
ATTACH;FMTTYPE=image/png:https://www.cessrst.org/wp-content/uploads/2023/02/logo-htext-sm.png
ORGANIZER;CN="Center for Earth System Sciences and Remote Sensing Technologies (CESSRST)":MAILTO:cessrst@ccny.cuny.edu
END:VEVENT
END:VCALENDAR