BEGIN:VCALENDAR
VERSION:2.0
PRODID:-//NOAA Center for Earth System Sciences and Remote Sensing Technologies - ECPv6.15.20//NONSGML v1.0//EN
CALSCALE:GREGORIAN
METHOD:PUBLISH
X-WR-CALNAME:NOAA Center for Earth System Sciences and Remote Sensing Technologies
X-ORIGINAL-URL:https://www.cessrst.org
X-WR-CALDESC:Events for NOAA Center for Earth System Sciences and Remote Sensing Technologies
REFRESH-INTERVAL;VALUE=DURATION:PT1H
X-Robots-Tag:noindex
X-PUBLISHED-TTL:PT1H
BEGIN:VTIMEZONE
TZID:America/New_York
BEGIN:DAYLIGHT
TZOFFSETFROM:-0500
TZOFFSETTO:-0400
TZNAME:EDT
DTSTART:20210314T070000
END:DAYLIGHT
BEGIN:STANDARD
TZOFFSETFROM:-0400
TZOFFSETTO:-0500
TZNAME:EST
DTSTART:20211107T060000
END:STANDARD
BEGIN:DAYLIGHT
TZOFFSETFROM:-0500
TZOFFSETTO:-0400
TZNAME:EDT
DTSTART:20220313T070000
END:DAYLIGHT
BEGIN:STANDARD
TZOFFSETFROM:-0400
TZOFFSETTO:-0500
TZNAME:EST
DTSTART:20221106T060000
END:STANDARD
BEGIN:DAYLIGHT
TZOFFSETFROM:-0500
TZOFFSETTO:-0400
TZNAME:EDT
DTSTART:20230312T070000
END:DAYLIGHT
BEGIN:STANDARD
TZOFFSETFROM:-0400
TZOFFSETTO:-0500
TZNAME:EST
DTSTART:20231105T060000
END:STANDARD
END:VTIMEZONE
BEGIN:VEVENT
DTSTART;TZID=America/New_York:20220914T080000
DTEND;TZID=America/New_York:20220914T100000
DTSTAMP:20260423T064631
CREATED:20230306T150447Z
LAST-MODIFIED:20230306T154305Z
UID:3606-1663142400-1663149600@www.cessrst.org
SUMMARY:Seminar Series: Air Pollution impacts on the Carbon Cycle\, Food Security\, Human Health and Climate
DESCRIPTION:Seminar Title: Title: Air pollution Impacts on the Carbon Cycle\, Food Security\, Human Health and Climate \nSpeaker: Dr. Nadine Unger\, Professor and Chair of Atmospheric\, Chemistry University of Exeter\, Exeter UK \nDay and Date: Wednesday | September 14\, 2022 \nTime: 12:00 PM EDT \nLocation: Steinman Hall Exhibit Room at Grove School of Engineering\, CCNY \nDownload Flyer
URL:https://www.cessrst.org/event/seminar-by-nadine-unger/
LOCATION:City College of New York\, 160 Convent Avenue\, New York\, 10031
CATEGORIES:Seminar Series
ATTACH;FMTTYPE=image/jpeg:https://www.cessrst.org/wp-content/uploads/2023/03/Nadine.jpg
ORGANIZER;CN="Center for Earth System Sciences and Remote Sensing Technologies (CESSRST)":MAILTO:cessrst@ccny.cuny.edu
END:VEVENT
END:VCALENDAR