BEGIN:VCALENDAR
VERSION:2.0
PRODID:-//NOAA Center for Earth System Sciences and Remote Sensing Technologies - ECPv6.15.20//NONSGML v1.0//EN
CALSCALE:GREGORIAN
METHOD:PUBLISH
X-WR-CALNAME:NOAA Center for Earth System Sciences and Remote Sensing Technologies
X-ORIGINAL-URL:https://www.cessrst.org
X-WR-CALDESC:Events for NOAA Center for Earth System Sciences and Remote Sensing Technologies
REFRESH-INTERVAL;VALUE=DURATION:PT1H
X-Robots-Tag:noindex
X-PUBLISHED-TTL:PT1H
BEGIN:VTIMEZONE
TZID:America/New_York
BEGIN:DAYLIGHT
TZOFFSETFROM:-0500
TZOFFSETTO:-0400
TZNAME:EDT
DTSTART:20250309T070000
END:DAYLIGHT
BEGIN:STANDARD
TZOFFSETFROM:-0400
TZOFFSETTO:-0500
TZNAME:EST
DTSTART:20251102T060000
END:STANDARD
BEGIN:DAYLIGHT
TZOFFSETFROM:-0500
TZOFFSETTO:-0400
TZNAME:EDT
DTSTART:20260308T070000
END:DAYLIGHT
BEGIN:STANDARD
TZOFFSETFROM:-0400
TZOFFSETTO:-0500
TZNAME:EST
DTSTART:20261101T060000
END:STANDARD
BEGIN:DAYLIGHT
TZOFFSETFROM:-0500
TZOFFSETTO:-0400
TZNAME:EDT
DTSTART:20270314T070000
END:DAYLIGHT
BEGIN:STANDARD
TZOFFSETFROM:-0400
TZOFFSETTO:-0500
TZNAME:EST
DTSTART:20271107T060000
END:STANDARD
END:VTIMEZONE
BEGIN:VEVENT
DTSTART;TZID=America/New_York:20260420T043000
DTEND;TZID=America/New_York:20260421T133000
DTSTAMP:20260421T211112
CREATED:20260215T134438Z
LAST-MODIFIED:20260225T134836Z
UID:5810-1776659400-1776778200@www.cessrst.org
SUMMARY:Fourth CESSRST II Annual Meeting
DESCRIPTION:[vc_row][vc_column][vc_column_text css=””]Third Annual CESSRST-II Meeting \nDate: April 8-10\, 2025 \nTime: 8:30AM ET \nVenue: Silver Spring\, MD \nMeeting Objects and Expected Outcomes \n\nTo share the Center’s year 4 updates\nTo create better collaborations and connection between CESSRST Scientist and NOAA Collaborators and Subject Matter Experts (SMEs)\n\n[/vc_column_text][/vc_column][/vc_row]
URL:https://www.cessrst.org/event/fourth-cessrst-ii-annual-meeting/
LOCATION:NOAA SSMC\, Silver Springs\, MD\, 1315 East-West Highway\, Silver Spring\, MD\, 20910
CATEGORIES:Conference/Symposium
ATTACH;FMTTYPE=image/png:https://www.cessrst.org/wp-content/uploads/2023/02/logo-htext-sm.png
ORGANIZER;CN="Center for Earth System Sciences and Remote Sensing Technologies (CESSRST)":MAILTO:cessrst@ccny.cuny.edu
END:VEVENT
END:VCALENDAR