BEGIN:VCALENDAR
VERSION:2.0
PRODID:-//NOAA Center for Earth System Sciences and Remote Sensing Technologies - ECPv6.15.20//NONSGML v1.0//EN
CALSCALE:GREGORIAN
METHOD:PUBLISH
X-WR-CALNAME:NOAA Center for Earth System Sciences and Remote Sensing Technologies
X-ORIGINAL-URL:https://www.cessrst.org
X-WR-CALDESC:Events for NOAA Center for Earth System Sciences and Remote Sensing Technologies
REFRESH-INTERVAL;VALUE=DURATION:PT1H
X-Robots-Tag:noindex
X-PUBLISHED-TTL:PT1H
BEGIN:VTIMEZONE
TZID:America/New_York
BEGIN:DAYLIGHT
TZOFFSETFROM:-0500
TZOFFSETTO:-0400
TZNAME:EDT
DTSTART:20250309T070000
END:DAYLIGHT
BEGIN:STANDARD
TZOFFSETFROM:-0400
TZOFFSETTO:-0500
TZNAME:EST
DTSTART:20251102T060000
END:STANDARD
BEGIN:DAYLIGHT
TZOFFSETFROM:-0500
TZOFFSETTO:-0400
TZNAME:EDT
DTSTART:20260308T070000
END:DAYLIGHT
BEGIN:STANDARD
TZOFFSETFROM:-0400
TZOFFSETTO:-0500
TZNAME:EST
DTSTART:20261101T060000
END:STANDARD
BEGIN:DAYLIGHT
TZOFFSETFROM:-0500
TZOFFSETTO:-0400
TZNAME:EDT
DTSTART:20270314T070000
END:DAYLIGHT
BEGIN:STANDARD
TZOFFSETFROM:-0400
TZOFFSETTO:-0500
TZNAME:EST
DTSTART:20271107T060000
END:STANDARD
END:VTIMEZONE
BEGIN:VEVENT
DTSTART;TZID=America/New_York:20260306T130000
DTEND;TZID=America/New_York:20260306T143000
DTSTAMP:20260425T152542
CREATED:20260212T221300Z
LAST-MODIFIED:20260225T224449Z
UID:5826-1772802000-1772807400@www.cessrst.org
SUMMARY:Seminar on Building Coastal Research Partnerships with NOAA
DESCRIPTION:[vc_row][vc_column][vc_column_text css=””]Seminar on Building Coastal Research Partnerships with NOAA\, \nDate: March 6\, 2026 from 1:00pm \nLocation: Exhibit Room\, Steinman Hall\, Grove School of Engineering \nPresenter(s): Dr.  Lonnie Gonsalves (NOS)\, Artara Johnson\, Dr. Veeshan Narinesingh\, and Matthew Harrison (GFDL) \nJoin Zoom Meeting \nhttps://us02web.zoom.us/j/87612364051?pwd=OX8TAqkiPdMcSYHLxtSQe8wbnWTgVq.1  \nMeeting ID: 876 1236 4051 \nPasscode: 539611 \n\n\nLine offices across NOAA will engage in a seminar and networking session aimed at strengthening collaboration and building coastal research partnerships across mission areas. \n\n\nDr. Lonnie Gonsalves\, Division Chief within NOAA’s National Ocean Service (NOS)\, and Artara Johnson  will address priority mission areas\, key technical skill areas\, and the communities served across NOS offices. Lonnie will focus predominantly on NCCOS\, with connectivity to work in coastal states\, national marine sanctuaries\, disaster response\, and forecasting. Tara will discuss environmental intelligence and prediction from the F4 offices perspective\, with applications to economic services (ports and shipping)\, resilience\, and disaster response. \n\n\nAdditional perspectives will be provided by Physical Scientists Dr. Veeshan Narinesingh\, and Matthew Harrison of NOAA’s Office of Oceanic and Atmospheric Research (OAR) and the Geophysical Fluid Dynamics Laboratory (GFDL). They will highlight research and operational integration across OAR and GFDL\, with discussion of observing systems\, modeling\, remote sensing\, engineering innovations\, and applications relevant to environmental intelligence and Earth system science. \n\n\n[/vc_column_text][/vc_column][/vc_row]
URL:https://www.cessrst.org/event/seminar-on-building-coastal-research-partnerships-with-noaa/
LOCATION:Grove School of Engineering\, 160 Convent Avenue\, New York\, NY\, 10031\, United States
CATEGORIES:Seminar Series
ATTACH;FMTTYPE=image/jpeg:https://www.cessrst.org/wp-content/uploads/2026/02/March-6th-Flyer_T.jpg
END:VEVENT
END:VCALENDAR