BEGIN:VCALENDAR
VERSION:2.0
PRODID:-//NOAA Center for Earth System Sciences and Remote Sensing Technologies - ECPv6.15.20//NONSGML v1.0//EN
CALSCALE:GREGORIAN
METHOD:PUBLISH
X-ORIGINAL-URL:https://www.cessrst.org
X-WR-CALDESC:Events for NOAA Center for Earth System Sciences and Remote Sensing Technologies
REFRESH-INTERVAL;VALUE=DURATION:PT1H
X-Robots-Tag:noindex
X-PUBLISHED-TTL:PT1H
BEGIN:VTIMEZONE
TZID:America/New_York
BEGIN:DAYLIGHT
TZOFFSETFROM:-0500
TZOFFSETTO:-0400
TZNAME:EDT
DTSTART:20220313T070000
END:DAYLIGHT
BEGIN:STANDARD
TZOFFSETFROM:-0400
TZOFFSETTO:-0500
TZNAME:EST
DTSTART:20221106T060000
END:STANDARD
BEGIN:DAYLIGHT
TZOFFSETFROM:-0500
TZOFFSETTO:-0400
TZNAME:EDT
DTSTART:20230312T070000
END:DAYLIGHT
BEGIN:STANDARD
TZOFFSETFROM:-0400
TZOFFSETTO:-0500
TZNAME:EST
DTSTART:20231105T060000
END:STANDARD
BEGIN:DAYLIGHT
TZOFFSETFROM:-0500
TZOFFSETTO:-0400
TZNAME:EDT
DTSTART:20240310T070000
END:DAYLIGHT
BEGIN:STANDARD
TZOFFSETFROM:-0400
TZOFFSETTO:-0500
TZNAME:EST
DTSTART:20241103T060000
END:STANDARD
END:VTIMEZONE
BEGIN:VEVENT
DTSTART;TZID=America/New_York:20230425T043000
DTEND;TZID=America/New_York:20230425T133000
DTSTAMP:20260423T142555
CREATED:20230329T220607Z
LAST-MODIFIED:20230329T220703Z
UID:3779-1682397000-1682429400@www.cessrst.org
SUMMARY:CESSRST II Annual Meeting
DESCRIPTION:1st Annual CESSRST-II Meeting \nDate: April 25\, 2023 \nTime: 8:30AM ET \nVenue: NOAA/NESDIS/NCEI\, Asheville NC \nMeeting Objects and Expected Outcomes \n\nTo share the Center’s 5 year plan and year 1 updates\nTo create better collaborations and connection between CESSRST Scientist and NOAA Collaborators and Subject Matter Experts (SMEs)
URL:https://www.cessrst.org/event/cessrst-ii-annual-meeting-year-i/
LOCATION:NOAA NESDIS/NCEI Asheville\, NC\, 151 Patton Ave\, Asheville\, NC\, 28801\, United States
CATEGORIES:Conference/Symposium
ATTACH;FMTTYPE=image/png:https://www.cessrst.org/wp-content/uploads/2023/02/logo-htext-sm.png
ORGANIZER;CN="Center for Earth System Sciences and Remote Sensing Technologies (CESSRST)":MAILTO:cessrst@ccny.cuny.edu
END:VEVENT
END:VCALENDAR